BEGIN:VCALENDAR
VERSION:2.0
PRODID:-//Gary Gackstatter - ECPv6.15.18//NONSGML v1.0//EN
CALSCALE:GREGORIAN
METHOD:PUBLISH
X-ORIGINAL-URL:https://garygackstatter.com
X-WR-CALDESC:Events for Gary Gackstatter
REFRESH-INTERVAL;VALUE=DURATION:PT1H
X-Robots-Tag:noindex
X-PUBLISHED-TTL:PT1H
BEGIN:VTIMEZONE
TZID:UTC
BEGIN:STANDARD
TZOFFSETFROM:+0000
TZOFFSETTO:+0000
TZNAME:UTC
DTSTART:20170101T000000
END:STANDARD
END:VTIMEZONE
BEGIN:VEVENT
DTSTART;TZID=UTC:20180617T190000
DTEND;TZID=UTC:20180617T210000
DTSTAMP:20260422T102240
CREATED:20180722T201444Z
LAST-MODIFIED:20180917T215043Z
UID:8566-1529262000-1529269200@garygackstatter.com
SUMMARY:GACKSTATTER GUEST CONDUCTS THE U CITY COMMUNITY BAND\, HEMAN PARK\, UNIVERSITY CITY
DESCRIPTION:
URL:https://garygackstatter.com/event/gackstatter-guest-conducts-the-u-city-community-band-heman-park-university-city/
LOCATION:St. Louis\, MO\, St. Louis\, United States
CATEGORIES:Events
END:VEVENT
END:VCALENDAR